BEGIN:VCALENDAR
VERSION:2.0
PRODID:-//hacksw/handcal//NONSGML v1.0//EN
BEGIN:VEVENT
SUMMARY:Championnat U13 mixte 04-05  2eme phase
UID:3533e4d4-8682-406e-a161-6b794866381e
DTSTART:20260314T120000Z
DTEND:20260314T230000Z
LOCATION:Localisation  04130 VOLX
CATEGORIES:Sportif
STATUS:
URL;VALUE=URI:https://www.batiebasket.fr/evenements/2026/03/14/championnat-u13-mixte-04-05-2eme-phase-2418833
END:VEVENT
END:VCALENDAR
