BEGIN:VCALENDAR
VERSION:2.0
PRODID:-//hacksw/handcal//NONSGML v1.0//EN
BEGIN:VEVENT
SUMMARY:Championnat U15M 04-05 2eme phase
UID:49834c5e-0cfd-4690-8e1b-ce429c7a45f1
DTSTART:20260314T150000Z
DTEND:20260314T230000Z
LOCATION:Localisation gymnase Centre 05000 GAP
CATEGORIES:Sportif
STATUS:
URL;VALUE=URI:https://www.batiebasket.fr/evenements/2026/03/14/championnat-u15m-04-05-2eme-phase-2418832
END:VEVENT
END:VCALENDAR
