BEGIN:VCALENDAR
VERSION:2.0
PRODID:-//hacksw/handcal//NONSGML v1.0//EN
BEGIN:VEVENT
SUMMARY:Plateau 04-05 U9 mixte
UID:af26f8a7-d674-4e07-a6db-a6f80b4455ea
DTSTART:20260314T090000Z
DTEND:20260314T110000Z
LOCATION:Localisation  04700 
CATEGORIES:Sportif
STATUS:
URL;VALUE=URI:https://www.batiebasket.fr/evenements/2026/03/14/plateau-04-05-u9-mixte-2418835
END:VEVENT
END:VCALENDAR
