BEGIN:VCALENDAR
VERSION:2.0
PRODID:-//hacksw/handcal//NONSGML v1.0//EN
BEGIN:VEVENT
SUMMARY:Championnat U15M 04-05 2eme phase
UID:8dd6b5cc-f5db-4834-a0a8-5302d5641b90
DTSTART:20260322T090000Z
DTEND:20260322T230000Z
LOCATION:Localisation gymnase de Roure 05500 Saint Bonnet
CATEGORIES:Sportif
STATUS:
URL;VALUE=URI:https://www.batiebasket.fr/evenements/2026/03/22/championnat-u15m-04-05-2eme-phase-2418838
END:VEVENT
END:VCALENDAR
