BEGIN:VCALENDAR
VERSION:2.0
PRODID:-//hacksw/handcal//NONSGML v1.0//EN
BEGIN:VEVENT
SUMMARY:Championnat U13M 3x3 04-05
UID:c6a1d1e3-218b-49b3-b549-5e173b090da9
DTSTART:20260328T083000Z
DTEND:20260328T110000Z
LOCATION:Gymnase du College Simone VEIL Avenue Francois Mitterrand 05230 La Batie-Neuve
CATEGORIES:Sportif
STATUS:
URL;VALUE=URI:https://www.batiebasket.fr/evenements/2026/03/28/championnat-u13m-3x3-04-05-2418839
END:VEVENT
END:VCALENDAR
