BEGIN:VCALENDAR
VERSION:2.0
PRODID:-//hacksw/handcal//NONSGML v1.0//EN
BEGIN:VEVENT
SUMMARY:Championnat U15M 3x3 04-05
UID:3a52ac10-f925-47a4-b80c-362c5e9bdbc0
DTSTART:20260328T113000Z
DTEND:20260328T140000Z
LOCATION:Gymnase du College Simone VEIL Avenue Francois Mitterrand 05230 La Batie-Neuve
CATEGORIES:Sportif
STATUS:
URL;VALUE=URI:https://www.batiebasket.fr/evenements/2026/03/28/championnat-u15m-3x3-04-05-2418840
END:VEVENT
END:VCALENDAR
