BEGIN:VCALENDAR
VERSION:2.0
PRODID:-//hacksw/handcal//NONSGML v1.0//EN
BEGIN:VEVENT
SUMMARY:Championnat U11M 2eme phase
UID:e3675582-ce3e-4aaf-9739-256725393bfc
DTSTART:20260411T090000Z
DTEND:20260411T220000Z
LOCATION:Gymnase du College Simone VEIL Avenue Francois Mitterrand 05230 La Batie-Neuve
CATEGORIES:Sportif
STATUS:
URL;VALUE=URI:https://www.batiebasket.fr/evenements/2026/04/11/championnat-u11m-2eme-phase-2438133
END:VEVENT
END:VCALENDAR
