BEGIN:VCALENDAR
VERSION:2.0
PRODID:-//hacksw/handcal//NONSGML v1.0//EN
BEGIN:VEVENT
SUMMARY:Championnat U13 mixte 04-05  2eme phase
UID:9f987213-1ede-472d-8421-f8491baf6677
DTSTART:20260411T120000Z
DTEND:20260411T220000Z
LOCATION:Gymnase du College Simone VEIL Avenue Francois Mitterrand 05230 La Batie-Neuve
CATEGORIES:Sportif
STATUS:
URL;VALUE=URI:https://www.batiebasket.fr/evenements/2026/04/11/championnat-u13-mixte-04-05-2eme-phase-2418843
END:VEVENT
END:VCALENDAR
