BEGIN:VCALENDAR
VERSION:2.0
PRODID:-//hacksw/handcal//NONSGML v1.0//EN
BEGIN:VEVENT
SUMMARY:Championnat U15M 04-05 2eme phase
UID:039e84d8-67e5-45c0-b7dc-73835b841097
DTSTART:20260411T140000Z
DTEND:20260411T220000Z
LOCATION:Gymnase du College Simone VEIL Avenue Francois Mitterrand 05230 La Batie-Neuve
CATEGORIES:Sportif
STATUS:
URL;VALUE=URI:https://www.batiebasket.fr/evenements/2026/04/11/championnat-u15m-04-05-2eme-phase-2418844
END:VEVENT
END:VCALENDAR
